BEGIN:VCALENDAR
VERSION:2.0
PRODID:-//Obst- und Gartenbauverein Neutraubling e.V. - ECPv5.12.3//NONSGML v1.0//EN
CALSCALE:GREGORIAN
METHOD:PUBLISH
X-WR-CALNAME:Obst- und Gartenbauverein Neutraubling e.V.
X-ORIGINAL-URL:https://ogv-neutraubling.de
X-WR-CALDESC:Veranstaltungen für Obst- und Gartenbauverein Neutraubling e.V.
BEGIN:VTIMEZONE
TZID:Europe/Helsinki
BEGIN:DAYLIGHT
TZOFFSETFROM:+0200
TZOFFSETTO:+0300
TZNAME:EEST
DTSTART:20130331T010000
END:DAYLIGHT
BEGIN:STANDARD
TZOFFSETFROM:+0300
TZOFFSETTO:+0200
TZNAME:EET
DTSTART:20131027T010000
END:STANDARD
END:VTIMEZONE
BEGIN:VEVENT
DTSTART;TZID=Europe/Helsinki:20130424T163000
DTEND;TZID=Europe/Helsinki:20130424T163000
DTSTAMP:20260420T014253
CREATED:20150730T063635Z
LAST-MODIFIED:20150730T063635Z
UID:403-1366821000-1366821000@ogv-neutraubling.de
SUMMARY:Treffen der Entdecker
DESCRIPTION:Liebe Entdecker\, liebe Eltern\, \nAm Mi 24.4.2013 treffen wir uns  um 16.30 Uhr am OGV-Häuschen in der Kleingartenanlage\, um unsere Kartoffeln zu stecken \nIch freue mich schon auf euch\,\neure Heidi Wilfling
URL:https://ogv-neutraubling.de/event/treffen-der-entdecker/
END:VEVENT
END:VCALENDAR