BEGIN:VCALENDAR
VERSION:2.0
PRODID:-//Obst- und Gartenbauverein Neutraubling e.V. - ECPv5.12.3//NONSGML v1.0//EN
CALSCALE:GREGORIAN
METHOD:PUBLISH
X-WR-CALNAME:Obst- und Gartenbauverein Neutraubling e.V.
X-ORIGINAL-URL:https://ogv-neutraubling.de
X-WR-CALDESC:Veranstaltungen für Obst- und Gartenbauverein Neutraubling e.V.
BEGIN:VTIMEZONE
TZID:Europe/Helsinki
BEGIN:DAYLIGHT
TZOFFSETFROM:+0200
TZOFFSETTO:+0300
TZNAME:EEST
DTSTART:20130331T010000
END:DAYLIGHT
BEGIN:STANDARD
TZOFFSETFROM:+0300
TZOFFSETTO:+0200
TZNAME:EET
DTSTART:20131027T010000
END:STANDARD
END:VTIMEZONE
BEGIN:VEVENT
DTSTART;TZID=Europe/Helsinki:20131004T190000
DTEND;TZID=Europe/Helsinki:20131004T190000
DTSTAMP:20260420T000637
CREATED:20150730T062920Z
LAST-MODIFIED:20150730T062920Z
UID:394-1380913200-1380913200@ogv-neutraubling.de
SUMMARY:Stammtischtreffen (Gaststätte Kleingartenverein)
DESCRIPTION:
URL:https://ogv-neutraubling.de/event/stammtischtreffen-gaststaette-kleingartenverein/
END:VEVENT
END:VCALENDAR