BEGIN:VCALENDAR
VERSION:2.0
PRODID:-//Obst- und Gartenbauverein Neutraubling e.V. - ECPv5.12.3//NONSGML v1.0//EN
CALSCALE:GREGORIAN
METHOD:PUBLISH
X-WR-CALNAME:Obst- und Gartenbauverein Neutraubling e.V.
X-ORIGINAL-URL:https://ogv-neutraubling.de
X-WR-CALDESC:Veranstaltungen für Obst- und Gartenbauverein Neutraubling e.V.
BEGIN:VTIMEZONE
TZID:Europe/Helsinki
BEGIN:DAYLIGHT
TZOFFSETFROM:+0200
TZOFFSETTO:+0300
TZNAME:EEST
DTSTART:20150329T010000
END:DAYLIGHT
BEGIN:STANDARD
TZOFFSETFROM:+0300
TZOFFSETTO:+0200
TZNAME:EET
DTSTART:20151025T010000
END:STANDARD
END:VTIMEZONE
BEGIN:VEVENT
DTSTART;TZID=Europe/Helsinki:20150807T190000
DTEND;TZID=Europe/Helsinki:20150807T220000
DTSTAMP:20260419T191435
CREATED:20150803T093109Z
LAST-MODIFIED:20150803T093109Z
UID:422-1438974000-1438984800@ogv-neutraubling.de
SUMMARY:Stammtisch
DESCRIPTION:Der nächste Stammtisch findet am 07.08.15\, 19.00 Uhr\,  in der Gaststätte der Kleingartenanlage – bei gutem Wetter auf der Terrasse – statt. Die Vereinsleitung freut sich auf Ihren zahlreichen Besuch.
URL:https://ogv-neutraubling.de/event/stammtisch/
LOCATION:Gaststätte der Kleingartenanlage\, Haidauer Straße 10\, Neutraubling\, 93073\, Deutschland
END:VEVENT
END:VCALENDAR