BEGIN:VCALENDAR
VERSION:2.0
PRODID:-//Obst- und Gartenbauverein Neutraubling e.V. - ECPv5.12.3//NONSGML v1.0//EN
CALSCALE:GREGORIAN
METHOD:PUBLISH
X-WR-CALNAME:Obst- und Gartenbauverein Neutraubling e.V.
X-ORIGINAL-URL:https://ogv-neutraubling.de
X-WR-CALDESC:Veranstaltungen für Obst- und Gartenbauverein Neutraubling e.V.
BEGIN:VTIMEZONE
TZID:Europe/Helsinki
BEGIN:DAYLIGHT
TZOFFSETFROM:+0200
TZOFFSETTO:+0300
TZNAME:EEST
DTSTART:20140330T010000
END:DAYLIGHT
BEGIN:STANDARD
TZOFFSETFROM:+0300
TZOFFSETTO:+0200
TZNAME:EET
DTSTART:20141026T010000
END:STANDARD
END:VTIMEZONE
BEGIN:VEVENT
DTSTART;TZID=Europe/Helsinki:20140606T190000
DTEND;TZID=Europe/Helsinki:20140606T190000
DTSTAMP:20260419T221927
CREATED:20150730T062217Z
LAST-MODIFIED:20150730T062217Z
UID:383-1402081200-1402081200@ogv-neutraubling.de
SUMMARY:Stammtisch mit Wanderung durch die Kleingartenanlage
DESCRIPTION:Die Vereinsleitung lädt herzlich zum Stammtisch am 06.06.14\, 19.00 Uhr\, ein. Vorgesehen ist eine „Wanderung“ durch die Kleingartenanlage in der Haidauer Straße. Treffpunkt auf dem Parkplatz vor der Kleingartenanlage. Danach geselliges Beisammensein. Wir freuen uns auf Ihren zahlreichen Besuch.
URL:https://ogv-neutraubling.de/event/stammtisch-mit-wanderung-durch-die-kleingartenanlage/
END:VEVENT
END:VCALENDAR