BEGIN:VCALENDAR
VERSION:2.0
PRODID:-//Obst- und Gartenbauverein Neutraubling e.V. - ECPv5.12.3//NONSGML v1.0//EN
CALSCALE:GREGORIAN
METHOD:PUBLISH
X-WR-CALNAME:Obst- und Gartenbauverein Neutraubling e.V.
X-ORIGINAL-URL:https://ogv-neutraubling.de
X-WR-CALDESC:Veranstaltungen für Obst- und Gartenbauverein Neutraubling e.V.
BEGIN:VTIMEZONE
TZID:Europe/Helsinki
BEGIN:DAYLIGHT
TZOFFSETFROM:+0200
TZOFFSETTO:+0300
TZNAME:EEST
DTSTART:20140330T010000
END:DAYLIGHT
BEGIN:STANDARD
TZOFFSETFROM:+0300
TZOFFSETTO:+0200
TZNAME:EET
DTSTART:20141026T010000
END:STANDARD
END:VTIMEZONE
BEGIN:VEVENT
DTSTART;TZID=Europe/Helsinki:20141107T190000
DTEND;TZID=Europe/Helsinki:20141107T190000
DTSTAMP:20260419T204038
CREATED:20150730T061816Z
LAST-MODIFIED:20150730T061816Z
UID:377-1415386800-1415386800@ogv-neutraubling.de
SUMMARY:Stammtisch mit Präsentation
DESCRIPTION:Beim November-Stammtsich\, am 07.11.2014\, wird unser Mitglied aus der Vereinsleitung\, Karl-Heinz Matz\, in einer Power-Point-Präsentation das Gartenjahr 2014 und die Veranstaltungen des Vereins noch einmal Revue passieren lassen.
URL:https://ogv-neutraubling.de/event/stammtisch-mit-praesentation/
END:VEVENT
END:VCALENDAR