BEGIN:VCALENDAR
VERSION:2.0
PRODID:-//Obst- und Gartenbauverein Neutraubling e.V. - ECPv5.12.3//NONSGML v1.0//EN
CALSCALE:GREGORIAN
METHOD:PUBLISH
X-WR-CALNAME:Obst- und Gartenbauverein Neutraubling e.V.
X-ORIGINAL-URL:https://ogv-neutraubling.de
X-WR-CALDESC:Veranstaltungen für Obst- und Gartenbauverein Neutraubling e.V.
BEGIN:VTIMEZONE
TZID:Europe/Helsinki
BEGIN:DAYLIGHT
TZOFFSETFROM:+0200
TZOFFSETTO:+0300
TZNAME:EEST
DTSTART:20150329T010000
END:DAYLIGHT
BEGIN:STANDARD
TZOFFSETFROM:+0300
TZOFFSETTO:+0200
TZNAME:EET
DTSTART:20151025T010000
END:STANDARD
END:VTIMEZONE
BEGIN:VEVENT
DTSTART;TZID=Europe/Helsinki:20150605T190000
DTEND;TZID=Europe/Helsinki:20150605T190000
DTSTAMP:20260419T193432
CREATED:20150730T055957Z
LAST-MODIFIED:20150730T055957Z
UID:367-1433530800-1433530800@ogv-neutraubling.de
SUMMARY:Stammtisch: Führung durch Kleingartenanlage
DESCRIPTION:Der nächste Stammtisch im Juni beginnt am 05.06.15\, 19.00 Uhr\, mit einem Rundgang durch die Kleingartenanlage in der Haidauer Strasse. Danach geselliges Beisammensein\, bei gutem Wetter auf der Terrasse der Kleingartengaststätte.
URL:https://ogv-neutraubling.de/event/stammtisch-fuehrung-durch-kleingartenanlage/
END:VEVENT
END:VCALENDAR