BEGIN:VCALENDAR
VERSION:2.0
PRODID:-//Obst- und Gartenbauverein Neutraubling e.V. - ECPv5.12.3//NONSGML v1.0//EN
CALSCALE:GREGORIAN
METHOD:PUBLISH
X-WR-CALNAME:Obst- und Gartenbauverein Neutraubling e.V.
X-ORIGINAL-URL:https://ogv-neutraubling.de
X-WR-CALDESC:Veranstaltungen für Obst- und Gartenbauverein Neutraubling e.V.
BEGIN:VTIMEZONE
TZID:Europe/Helsinki
BEGIN:DAYLIGHT
TZOFFSETFROM:+0200
TZOFFSETTO:+0300
TZNAME:EEST
DTSTART:20170326T010000
END:DAYLIGHT
BEGIN:STANDARD
TZOFFSETFROM:+0300
TZOFFSETTO:+0200
TZNAME:EET
DTSTART:20171029T010000
END:STANDARD
END:VTIMEZONE
BEGIN:VEVENT
DTSTART;TZID=Europe/Helsinki:20170203T190000
DTEND;TZID=Europe/Helsinki:20170203T210000
DTSTAMP:20260419T145945
CREATED:20170116T100547Z
LAST-MODIFIED:20170116T100547Z
UID:657-1486148400-1486155600@ogv-neutraubling.de
SUMMARY:Stammtisch am Freitag\, 03. Februar 2017
DESCRIPTION:Der erste OGV-Stammtisch in 2017 beginnt mit einem Fachvortrag zum Thema Wissenswertes zum „Rasenmäh-Roboter“. Herr Paul Beyreiss wird in einem Vortrag umfassende Informationen über die Einsatzmöglichkeiten\, Pflege und Kosten zu diesem\, in letzter Zeit immer populärer werdenden\, Rasenpflegegerät geben. Die Veranstaltung beginnt um 19.00 Uhr im Nebenzimmer der Kleingartengaststätte in der Haidauer Straße. Auch Nichtmitglieder sind herzlich willkommen.
URL:https://ogv-neutraubling.de/event/stammtisch-am-freitag-03-februar-2017/
LOCATION:Gaststätte der Kleingartenanlage\, Haidauer Straße 10\, Neutraubling\, 93073\, Deutschland
END:VEVENT
END:VCALENDAR