BEGIN:VCALENDAR
VERSION:2.0
PRODID:-//Obst- und Gartenbauverein Neutraubling e.V. - ECPv5.12.3//NONSGML v1.0//EN
CALSCALE:GREGORIAN
METHOD:PUBLISH
X-WR-CALNAME:Obst- und Gartenbauverein Neutraubling e.V.
X-ORIGINAL-URL:https://ogv-neutraubling.de
X-WR-CALDESC:Veranstaltungen für Obst- und Gartenbauverein Neutraubling e.V.
BEGIN:VTIMEZONE
TZID:Europe/Helsinki
BEGIN:DAYLIGHT
TZOFFSETFROM:+0200
TZOFFSETTO:+0300
TZNAME:EEST
DTSTART:20150329T010000
END:DAYLIGHT
BEGIN:STANDARD
TZOFFSETFROM:+0300
TZOFFSETTO:+0200
TZNAME:EET
DTSTART:20151025T010000
END:STANDARD
END:VTIMEZONE
BEGIN:VEVENT
DTSTART;TZID=Europe/Helsinki:20151002T190000
DTEND;TZID=Europe/Helsinki:20151002T220000
DTSTAMP:20260419T180039
CREATED:20151002T162132Z
LAST-MODIFIED:20151002T162132Z
UID:450-1443812400-1443823200@ogv-neutraubling.de
SUMMARY:Stammtisch am Freitag\, 02.10.15
DESCRIPTION:Der Oktober-Stammtsich des OGV findet am Freitag\, 02.10.15\, 19.00 Uhr\, in der Gaststätte des Kleingartenvereins in der Haidauer-Str. statt. Die Vereinsleitung freut sich auf Ihr Kommen.
URL:https://ogv-neutraubling.de/event/stammtisch-am-freitag-02-10-15/
LOCATION:Gaststätte der Kleingartenanlage\, Haidauer Straße 10\, Neutraubling\, 93073\, Deutschland
END:VEVENT
END:VCALENDAR