BEGIN:VCALENDAR
VERSION:2.0
PRODID:-//Obst- und Gartenbauverein Neutraubling e.V. - ECPv5.12.3//NONSGML v1.0//EN
CALSCALE:GREGORIAN
METHOD:PUBLISH
X-WR-CALNAME:Obst- und Gartenbauverein Neutraubling e.V.
X-ORIGINAL-URL:https://ogv-neutraubling.de
X-WR-CALDESC:Veranstaltungen für Obst- und Gartenbauverein Neutraubling e.V.
BEGIN:VTIMEZONE
TZID:Europe/Helsinki
BEGIN:DAYLIGHT
TZOFFSETFROM:+0200
TZOFFSETTO:+0300
TZNAME:EEST
DTSTART:20140330T010000
END:DAYLIGHT
BEGIN:STANDARD
TZOFFSETFROM:+0300
TZOFFSETTO:+0200
TZNAME:EET
DTSTART:20141026T010000
END:STANDARD
END:VTIMEZONE
BEGIN:VEVENT
DTSTART;TZID=Europe/Helsinki:20140502T190000
DTEND;TZID=Europe/Helsinki:20140502T190000
DTSTAMP:20260419T221850
CREATED:20150730T062457Z
LAST-MODIFIED:20150730T062457Z
UID:387-1399057200-1399057200@ogv-neutraubling.de
SUMMARY:Stammtisch am Freitag\, 02.05.2014
DESCRIPTION:Wir laden herzlich ein zu unserem Stammtisch am Freitag\, 02.05.2014\, 19.00 Uhr\, in die Gaststätte des Kleingartenvereins in die Haidauer Str.
URL:https://ogv-neutraubling.de/event/stammtisch-am-freitag-02-05-2014/
END:VEVENT
END:VCALENDAR