BEGIN:VCALENDAR
VERSION:2.0
PRODID:-//Obst- und Gartenbauverein Neutraubling e.V. - ECPv5.12.3//NONSGML v1.0//EN
CALSCALE:GREGORIAN
METHOD:PUBLISH
X-WR-CALNAME:Obst- und Gartenbauverein Neutraubling e.V.
X-ORIGINAL-URL:https://ogv-neutraubling.de
X-WR-CALDESC:Veranstaltungen für Obst- und Gartenbauverein Neutraubling e.V.
BEGIN:VTIMEZONE
TZID:Europe/Helsinki
BEGIN:DAYLIGHT
TZOFFSETFROM:+0200
TZOFFSETTO:+0300
TZNAME:EEST
DTSTART:20160327T010000
END:DAYLIGHT
BEGIN:STANDARD
TZOFFSETFROM:+0300
TZOFFSETTO:+0200
TZNAME:EET
DTSTART:20161030T010000
END:STANDARD
END:VTIMEZONE
BEGIN:VEVENT
DTSTART;TZID=Europe/Helsinki:20160506T190000
DTEND;TZID=Europe/Helsinki:20160506T213000
DTSTAMP:20260419T162014
CREATED:20160426T184513Z
LAST-MODIFIED:20160426T184513Z
UID:547-1462561200-1462570200@ogv-neutraubling.de
SUMMARY:Stammisch\, 06.05.2016
DESCRIPTION:Der nächste Stamtisch findet am Freitag\, 06.05.2016\, 19.00 Uhr in der Gaststätte der Kleingartenanlage in der Haidauer Str. statt. Die Vereinsleitung freut sich  auf Ihr Kommen.
URL:https://ogv-neutraubling.de/event/stammisch-06-05-2016/
LOCATION:Gaststätte der Kleingartenanlage\, Haidauer Straße 10\, Neutraubling\, 93073\, Deutschland
END:VEVENT
END:VCALENDAR