BEGIN:VCALENDAR
VERSION:2.0
PRODID:-//Obst- und Gartenbauverein Neutraubling e.V. - ECPv5.12.3//NONSGML v1.0//EN
CALSCALE:GREGORIAN
METHOD:PUBLISH
X-WR-CALNAME:Obst- und Gartenbauverein Neutraubling e.V.
X-ORIGINAL-URL:https://ogv-neutraubling.de
X-WR-CALDESC:Veranstaltungen für Obst- und Gartenbauverein Neutraubling e.V.
BEGIN:VTIMEZONE
TZID:Europe/Helsinki
BEGIN:DAYLIGHT
TZOFFSETFROM:+0200
TZOFFSETTO:+0300
TZNAME:EEST
DTSTART:20140330T010000
END:DAYLIGHT
BEGIN:STANDARD
TZOFFSETFROM:+0300
TZOFFSETTO:+0200
TZNAME:EET
DTSTART:20141026T010000
END:STANDARD
END:VTIMEZONE
BEGIN:VEVENT
DTSTART;VALUE=DATE:20140831
DTEND;VALUE=DATE:20140907
DTSTAMP:20260419T221850
CREATED:20150730T062007Z
LAST-MODIFIED:20150730T062007Z
UID:380-1409443200-1410047999@ogv-neutraubling.de
SUMMARY:Radltour Südtirol 31.8.-6.9.
DESCRIPTION:siehe OGV-Reiseprogramm!
URL:https://ogv-neutraubling.de/event/radltour-suedtirol-31-8-6-9/
END:VEVENT
END:VCALENDAR