BEGIN:VCALENDAR
VERSION:2.0
PRODID:-//Obst- und Gartenbauverein Neutraubling e.V. - ECPv5.12.3//NONSGML v1.0//EN
CALSCALE:GREGORIAN
METHOD:PUBLISH
X-WR-CALNAME:Obst- und Gartenbauverein Neutraubling e.V.
X-ORIGINAL-URL:https://ogv-neutraubling.de
X-WR-CALDESC:Veranstaltungen für Obst- und Gartenbauverein Neutraubling e.V.
BEGIN:VTIMEZONE
TZID:Europe/Helsinki
BEGIN:DAYLIGHT
TZOFFSETFROM:+0200
TZOFFSETTO:+0300
TZNAME:EEST
DTSTART:20130331T010000
END:DAYLIGHT
BEGIN:STANDARD
TZOFFSETFROM:+0300
TZOFFSETTO:+0200
TZNAME:EET
DTSTART:20131027T010000
END:STANDARD
END:VTIMEZONE
BEGIN:VEVENT
DTSTART;VALUE=DATE:20130524
DTEND;VALUE=DATE:20130530
DTSTAMP:20260420T000542
CREATED:20150730T063359Z
LAST-MODIFIED:20150730T063359Z
UID:399-1369353600-1369871999@ogv-neutraubling.de
SUMMARY:Radltour Schwarzwald (ohne Steigungen)
DESCRIPTION:siehe Jahresprogramm 2013.
URL:https://ogv-neutraubling.de/event/radltour-schwarzwald-ohne-steigungen/
END:VEVENT
END:VCALENDAR