BEGIN:VCALENDAR
VERSION:2.0
PRODID:-//Obst- und Gartenbauverein Neutraubling e.V. - ECPv5.12.3//NONSGML v1.0//EN
CALSCALE:GREGORIAN
METHOD:PUBLISH
X-WR-CALNAME:Obst- und Gartenbauverein Neutraubling e.V.
X-ORIGINAL-URL:https://ogv-neutraubling.de
X-WR-CALDESC:Veranstaltungen für Obst- und Gartenbauverein Neutraubling e.V.
BEGIN:VTIMEZONE
TZID:Europe/Helsinki
BEGIN:DAYLIGHT
TZOFFSETFROM:+0200
TZOFFSETTO:+0300
TZNAME:EEST
DTSTART:20140330T010000
END:DAYLIGHT
BEGIN:STANDARD
TZOFFSETFROM:+0300
TZOFFSETTO:+0200
TZNAME:EET
DTSTART:20141026T010000
END:STANDARD
END:VTIMEZONE
BEGIN:VEVENT
DTSTART;TZID=Europe/Helsinki:20140411T190000
DTEND;TZID=Europe/Helsinki:20140412T000000
DTSTAMP:20260419T221733
CREATED:20150730T062703Z
LAST-MODIFIED:20150730T062703Z
UID:390-1397242800-1397260800@ogv-neutraubling.de
SUMMARY:Palmatoranstich in Adlersberg mit Unterhaltungsprogramm
DESCRIPTION:Exklusiv für den OGV Neutraubling e. V.: Wir probieren als Erste den neuen Palmator! Wie immer haben wir für Sie\, ein geselliges Unterhaltungsprogramm zusammengestellt.  Kevin Kratsch und Christoph Weber spielten sich unter dem Namen „Brennberger Buam“ mit Begeisterung durch Gasthäuser\, Tanzböden und Festzelte. Ein Grund mehr für uns\, beide Musikanten zu engagieren\, damit sie uns in Adlersberg in diesem Jahr in Stimmung bringen. \nDie Abfahrt ab Hallenbad Neutraubling erfolgt um 19.00 Uhr\, ab Rathaus 19.05 Uhr\, die Rückkehr ist für 24.00 Uhr vorgesehen. Der Fahrpreis pro Person beträgt € 12\,00. Waltraud Zaar nimmt Ihre Anmeldungen ab sofort unter der Telefonnummer 09401/7320 entgegen. Wir freuen uns auf Ihre Anmeldung. \nDer Fahrpreis beträgt pro Person 12\,00 Euro.
URL:https://ogv-neutraubling.de/event/palmatoranstich-in-adlersberg-mit-unterhaltungsprogramm/
END:VEVENT
END:VCALENDAR