BEGIN:VCALENDAR
VERSION:2.0
PRODID:-//Obst- und Gartenbauverein Neutraubling e.V. - ECPv5.12.3//NONSGML v1.0//EN
CALSCALE:GREGORIAN
METHOD:PUBLISH
X-WR-CALNAME:Obst- und Gartenbauverein Neutraubling e.V.
X-ORIGINAL-URL:https://ogv-neutraubling.de
X-WR-CALDESC:Veranstaltungen für Obst- und Gartenbauverein Neutraubling e.V.
BEGIN:VTIMEZONE
TZID:Europe/Helsinki
BEGIN:DAYLIGHT
TZOFFSETFROM:+0200
TZOFFSETTO:+0300
TZNAME:EEST
DTSTART:20130331T010000
END:DAYLIGHT
BEGIN:STANDARD
TZOFFSETFROM:+0300
TZOFFSETTO:+0200
TZNAME:EET
DTSTART:20131027T010000
END:STANDARD
END:VTIMEZONE
BEGIN:VEVENT
DTSTART;TZID=Europe/Helsinki:20130503T190000
DTEND;TZID=Europe/Helsinki:20130503T190000
DTSTAMP:20260420T014421
CREATED:20150730T063811Z
LAST-MODIFIED:20150730T063811Z
UID:406-1367607600-1367607600@ogv-neutraubling.de
SUMMARY:OGV Stammtischtreffen
DESCRIPTION:OGV Stammtischtreffen um 19.00 Uhr im Vereinsheim der Kleingartenanlage
URL:https://ogv-neutraubling.de/event/ogv-stammtischtreffen-2/
END:VEVENT
END:VCALENDAR