BEGIN:VCALENDAR
VERSION:2.0
PRODID:-//Obst- und Gartenbauverein Neutraubling e.V. - ECPv5.12.3//NONSGML v1.0//EN
CALSCALE:GREGORIAN
METHOD:PUBLISH
X-WR-CALNAME:Obst- und Gartenbauverein Neutraubling e.V.
X-ORIGINAL-URL:https://ogv-neutraubling.de
X-WR-CALDESC:Veranstaltungen für Obst- und Gartenbauverein Neutraubling e.V.
BEGIN:VTIMEZONE
TZID:Europe/Helsinki
BEGIN:DAYLIGHT
TZOFFSETFROM:+0200
TZOFFSETTO:+0300
TZNAME:EEST
DTSTART:20150329T010000
END:DAYLIGHT
BEGIN:STANDARD
TZOFFSETFROM:+0300
TZOFFSETTO:+0200
TZNAME:EET
DTSTART:20151025T010000
END:STANDARD
END:VTIMEZONE
BEGIN:VEVENT
DTSTART;TZID=Europe/Helsinki:20150206T190000
DTEND;TZID=Europe/Helsinki:20150206T190000
DTSTAMP:20260419T204414
CREATED:20150730T061607Z
LAST-MODIFIED:20150730T061607Z
UID:374-1423249200-1423249200@ogv-neutraubling.de
SUMMARY:OGV-Stammtisch mit Vortrag "Erste Hilfe" am 06. Februar 2015
DESCRIPTION:Unter dem Motto „Erste Hilfe“ steht das Thema des ersten Stammtisches 2015 im Februar. Herr Florian Lex vom BRK wird über Sofortmaßnahmen bei Unfällen mit dem Kfz\, im Haus und Garten\, sowie bei Krankheiten\, z.B. bei Schlaganfall\, Herzinfarkt usw. referieren. Die Veranstaltung beginnt um 19.00 Uhr im Nebenraum der Gaststätte des Kleingartenvereins in der Haidauerstraße.\nDie Vereinsleitung freut sich auf Ihren Besuch\, auch Nichtmitglieder sind bei dieser interessanten und für Sie kostenlosen Veranstaltung herzlich willkommen.
URL:https://ogv-neutraubling.de/event/ogv-stammtisch-mit-vortrag-erste-hilfe-am-06-februar-2015/
END:VEVENT
END:VCALENDAR