BEGIN:VCALENDAR
VERSION:2.0
PRODID:-//Obst- und Gartenbauverein Neutraubling e.V. - ECPv5.12.3//NONSGML v1.0//EN
CALSCALE:GREGORIAN
METHOD:PUBLISH
X-WR-CALNAME:Obst- und Gartenbauverein Neutraubling e.V.
X-ORIGINAL-URL:https://ogv-neutraubling.de
X-WR-CALDESC:Veranstaltungen für Obst- und Gartenbauverein Neutraubling e.V.
BEGIN:VTIMEZONE
TZID:Europe/Helsinki
BEGIN:DAYLIGHT
TZOFFSETFROM:+0200
TZOFFSETTO:+0300
TZNAME:EEST
DTSTART:20170326T010000
END:DAYLIGHT
BEGIN:STANDARD
TZOFFSETFROM:+0300
TZOFFSETTO:+0200
TZNAME:EET
DTSTART:20171029T010000
END:STANDARD
END:VTIMEZONE
BEGIN:VEVENT
DTSTART;TZID=Europe/Helsinki:20171202T180000
DTEND;TZID=Europe/Helsinki:20171202T203000
DTSTAMP:20260419T123945
CREATED:20171107T195046Z
LAST-MODIFIED:20171107T195046Z
UID:819-1512237600-1512246600@ogv-neutraubling.de
SUMMARY:OGV-Adventssingen am Samstag\, 02. Dezember 2017\, 18.00 Uhr\, in der Stadthalle Neutraubling
DESCRIPTION:Der OGV Neutraubling e.V. lädt alle Mitglieder mit Angehörigen\, sowie Freunde und Bekannte herzlich zum Adventssingen am 2. Dezember in die Stadthalle Neutraubling ein. Das Adventssingen findet um 18.00 Uhr statt\, die Saalöffnung erfolgt bereits um 17.00 Uhr. Unserem Mitglied in der Vereinsleitung\, Rupert Preißl\, ist es wieder gelungen\, ein anspruchsvolles Programm zusammenzustellen. Den besinnlichen Teil des Abends bestreiten die Gruppen\, „Pauliner Stubenmusi“\, „Posaunenchor Neutraubling“\, „Regensburger Stubenmusi“\, und die „Pauliner Sängerinnen“ sowie Katja Holler an der Harfe. Die besinnlichen Texte zwischen den Musikstücken werden in diesem Jahr von Gerd Holz\, dem Vorsitzenden des Fördervereins Bairische Sprache e.V.\, vorgetragen. Nach dem besinnlichen Teil und einer kurzen technischen Pause werden die Sieger auf Orts- und Kreisebene\, der diesjährigen Blumenschmuckwettbewerbe geehrt. Der Neutraublinger Christkindlmarkt hat an diesem Tag bis ca. 21.30 Uhr geöffnet. Die Vereinsleitung freut sich auf Ihren zahlreichen Besuch!
URL:https://ogv-neutraubling.de/event/ogv-adventssingen-am-samstag-02-dezember-2017-18-00-uhr-in-der-stadthalle-neutraubling/
LOCATION:Stadthalle Neutraubling\, Regensburger Str. 9\, Neutraubling\, Bayern\, 93073\, Deutschland
END:VEVENT
END:VCALENDAR