BEGIN:VCALENDAR
VERSION:2.0
PRODID:-//Obst- und Gartenbauverein Neutraubling e.V. - ECPv5.12.3//NONSGML v1.0//EN
CALSCALE:GREGORIAN
METHOD:PUBLISH
X-WR-CALNAME:Obst- und Gartenbauverein Neutraubling e.V.
X-ORIGINAL-URL:https://ogv-neutraubling.de
X-WR-CALDESC:Veranstaltungen für Obst- und Gartenbauverein Neutraubling e.V.
BEGIN:VTIMEZONE
TZID:Europe/Helsinki
BEGIN:DAYLIGHT
TZOFFSETFROM:+0200
TZOFFSETTO:+0300
TZNAME:EEST
DTSTART:20150329T010000
END:DAYLIGHT
BEGIN:STANDARD
TZOFFSETFROM:+0300
TZOFFSETTO:+0200
TZNAME:EET
DTSTART:20151025T010000
END:STANDARD
END:VTIMEZONE
BEGIN:VEVENT
DTSTART;TZID=Europe/Helsinki:20151017T100000
DTEND;TZID=Europe/Helsinki:20151017T120000
DTSTAMP:20260419T191311
CREATED:20150927T144448Z
LAST-MODIFIED:20151002T162722Z
UID:445-1445076000-1445083200@ogv-neutraubling.de
SUMMARY:Neutraublinger Pflanzentauschbörse
DESCRIPTION:Die „grünen Vereine“ der Stadt Neutraubling\, der Kleingartenverein e. V.\, der Siedlerbund e. V. sowie der OGV veranstalten am Samstag\, 17.10.2015\, in der Zeit von 10.00 Uhr – 12.00 Uhr\, auf dem Gelände vor der Kleingartenanlage in der Haidauer Str. wieder eine Pflanzentauschbörse. Das Motto der Börse lautet: TEILEN\, BRINGEN\, SCHENKEN\, TAUSCHEN\, HOLEN. Bitte kennzeichnen  Sie nach Möglichkeit die abzugebenden Pflanzen mit (botanischen) Namen\, Größe\, Blütenfarbe usw.\, dies vereinfacht den „Erwerbern“ die Platzierung der Pflanzen am „neuen Ort“. Die ausrichtenden Vereine würden sich über eine rege Teilnahme an der Aktion sehr freuen. \n  \nPeter Krienke\, Schriftführer OGV Neutraubling e. V.
URL:https://ogv-neutraubling.de/event/neuraublinger-pflanzenboerse/
LOCATION:Gaststätte der Kleingartenanlage\, Haidauer Straße 10\, Neutraubling\, 93073\, Deutschland
END:VEVENT
END:VCALENDAR