BEGIN:VCALENDAR
VERSION:2.0
PRODID:-//Obst- und Gartenbauverein Neutraubling e.V. - ECPv5.12.3//NONSGML v1.0//EN
CALSCALE:GREGORIAN
METHOD:PUBLISH
X-WR-CALNAME:Obst- und Gartenbauverein Neutraubling e.V.
X-ORIGINAL-URL:https://ogv-neutraubling.de
X-WR-CALDESC:Veranstaltungen für Obst- und Gartenbauverein Neutraubling e.V.
BEGIN:VTIMEZONE
TZID:Europe/Helsinki
BEGIN:DAYLIGHT
TZOFFSETFROM:+0200
TZOFFSETTO:+0300
TZNAME:EEST
DTSTART:20160327T010000
END:DAYLIGHT
BEGIN:STANDARD
TZOFFSETFROM:+0300
TZOFFSETTO:+0200
TZNAME:EET
DTSTART:20161030T010000
END:STANDARD
END:VTIMEZONE
BEGIN:VEVENT
DTSTART;TZID=Europe/Helsinki:20160501T133000
DTEND;TZID=Europe/Helsinki:20160501T160000
DTSTAMP:20260419T174459
CREATED:20160426T184904Z
LAST-MODIFIED:20160426T184904Z
UID:550-1462109400-1462118400@ogv-neutraubling.de
SUMMARY:Maibaumfeier 01.05.2016
DESCRIPTION:In den verschiedensten Kulturen sind Maibaumfeiern schon seit langer Zeit nicht unbekannt. Gerne beteiligen wir uns deshalb an der von der Egerländer Gmoi gestalteten Neutraublinger Maibaumfeier zum 01. Mai. Wir bitten unsere Mitglieder und auch die Kinder unserer Jugendgruppe „Die Entdecker“ sich an der Gestaltung des Festumzuges zu beteiligen. Treffpunkt und Aufstellung des Festumzuges ist um 13.30 Uhr bei der St.-Michaels-Platz auf dem NORMA-Parkplatz. Von hier erfolgt der Abmarsch um 14.00 Uhr Richtung Marktplatz. Um ca. 14.30 Uhr\, nach dem Aufstellen des Maibaumes\, ist ein gemütliches Beisammensein auf dem Marktplatz vorgesehen.
URL:https://ogv-neutraubling.de/event/maibaumfeier-01-05-2016/
END:VEVENT
END:VCALENDAR