BEGIN:VCALENDAR
VERSION:2.0
PRODID:-//Obst- und Gartenbauverein Neutraubling e.V. - ECPv5.12.3//NONSGML v1.0//EN
CALSCALE:GREGORIAN
METHOD:PUBLISH
X-WR-CALNAME:Obst- und Gartenbauverein Neutraubling e.V.
X-ORIGINAL-URL:https://ogv-neutraubling.de
X-WR-CALDESC:Veranstaltungen für Obst- und Gartenbauverein Neutraubling e.V.
BEGIN:VTIMEZONE
TZID:Europe/Helsinki
BEGIN:DAYLIGHT
TZOFFSETFROM:+0200
TZOFFSETTO:+0300
TZNAME:EEST
DTSTART:20150329T010000
END:DAYLIGHT
BEGIN:STANDARD
TZOFFSETFROM:+0300
TZOFFSETTO:+0200
TZNAME:EET
DTSTART:20151025T010000
END:STANDARD
END:VTIMEZONE
BEGIN:VEVENT
DTSTART;TZID=Europe/Helsinki:20150705T090000
DTEND;TZID=Europe/Helsinki:20150705T090000
DTSTAMP:20260419T204505
CREATED:20150730T055222Z
LAST-MODIFIED:20150730T055222Z
UID:363-1436086800-1436086800@ogv-neutraubling.de
SUMMARY:Kulturfest der Stadt Neutraubling am Sonntag\, 05.07.2015
DESCRIPTION:Der OGV Neutraubling e. V. beteiligt sich unter dem Motto „Querbeet\, Fachberatung rund um den Garten“ am Kulturfest der Stadt Neutraubling. Mit einem Naturquizz für die „Kleinen und auch Großen“ wollen wir Naturliebhaber an die Besonderheiten der Natur heranführen. Eine „Weinschenke“ mit „Tiroler Schmankerl“ haben wir für Sie zum Vereilen bei uns aufgebaut. Die Vereinsleitung des OGV Neutraubling freut sich auf Ihren Besuch.
URL:https://ogv-neutraubling.de/event/kulturfest-der-stadt-neutraubling-am-sonntag-05-07-2015/
END:VEVENT
END:VCALENDAR