BEGIN:VCALENDAR
VERSION:2.0
PRODID:-//Obst- und Gartenbauverein Neutraubling e.V. - ECPv5.12.3//NONSGML v1.0//EN
CALSCALE:GREGORIAN
METHOD:PUBLISH
X-WR-CALNAME:Obst- und Gartenbauverein Neutraubling e.V.
X-ORIGINAL-URL:https://ogv-neutraubling.de
X-WR-CALDESC:Veranstaltungen für Obst- und Gartenbauverein Neutraubling e.V.
BEGIN:VTIMEZONE
TZID:Europe/Helsinki
BEGIN:DAYLIGHT
TZOFFSETFROM:+0200
TZOFFSETTO:+0300
TZNAME:EEST
DTSTART:20140330T010000
END:DAYLIGHT
BEGIN:STANDARD
TZOFFSETFROM:+0300
TZOFFSETTO:+0200
TZNAME:EET
DTSTART:20141026T010000
END:STANDARD
END:VTIMEZONE
BEGIN:VEVENT
DTSTART;TZID=Europe/Helsinki:20140920T150000
DTEND;TZID=Europe/Helsinki:20140920T150000
DTSTAMP:20260419T204249
CREATED:20150730T061922Z
LAST-MODIFIED:20150730T061922Z
UID:379-1411225200-1411225200@ogv-neutraubling.de
SUMMARY:Kartoffelfeuer der Entdecker (witterungsabhängig)
DESCRIPTION:Die Kindergruppe des OGV Neutraubling e. V.\, „Die Entdecker“\, veranstaltet am Samstag\, 20. September 2014\, 15.00 Uhr\, auf dem Grundstück des ldw. Anwesen der Fam. Herkner\, An der Pirkacher Breite\, ihr schon traditionelles Kartoffelfeuer\, in dessen Glut Kartoffeln garen sollen. Stockbrot und Kartoffelkas stehen\, auch für die begleitenden Eltern oder Großeltern\, zum Verzehr bereit. Dazu gibt es auch Getränke\, für die Kinder natürlich nur alkoholfreie. \nWer Lust hat den nahenden Herbst am prasselnden Feuer zu begrüßen\, kommt am Samstag zum Anwesen der Familie Herkner. Die Vereinsleitung des OGV freut sich auf Ihren zahlreichen Besuch. Sollte es am Samstag regnen\, muss die Veranstaltung leider ausfallen\, einen Ersatztermin können wir nicht anbieten.
URL:https://ogv-neutraubling.de/event/kartoffelfeuer-der-entdecker-witterungsabhaengig/
END:VEVENT
END:VCALENDAR