BEGIN:VCALENDAR
VERSION:2.0
PRODID:-//Obst- und Gartenbauverein Neutraubling e.V. - ECPv5.12.3//NONSGML v1.0//EN
CALSCALE:GREGORIAN
METHOD:PUBLISH
X-WR-CALNAME:Obst- und Gartenbauverein Neutraubling e.V.
X-ORIGINAL-URL:https://ogv-neutraubling.de
X-WR-CALDESC:Veranstaltungen für Obst- und Gartenbauverein Neutraubling e.V.
BEGIN:VTIMEZONE
TZID:Europe/Helsinki
BEGIN:DAYLIGHT
TZOFFSETFROM:+0200
TZOFFSETTO:+0300
TZNAME:EEST
DTSTART:20130331T010000
END:DAYLIGHT
BEGIN:STANDARD
TZOFFSETFROM:+0300
TZOFFSETTO:+0200
TZNAME:EET
DTSTART:20131027T010000
END:STANDARD
END:VTIMEZONE
BEGIN:VEVENT
DTSTART;TZID=Europe/Helsinki:20130712T150000
DTEND;TZID=Europe/Helsinki:20130712T150000
DTSTAMP:20260420T014625
CREATED:20150730T063511Z
LAST-MODIFIED:20150730T063511Z
UID:401-1373641200-1373641200@ogv-neutraubling.de
SUMMARY:"Kaltenberger Gauklernacht" - Eine Reise ins Reich der Fantasie
DESCRIPTION:siehe Jahresprogramm 2013.
URL:https://ogv-neutraubling.de/event/kaltenberger-gauklernacht-eine-reise-ins-reich-der-fantasie/
END:VEVENT
END:VCALENDAR