BEGIN:VCALENDAR
VERSION:2.0
PRODID:-//Obst- und Gartenbauverein Neutraubling e.V. - ECPv5.12.3//NONSGML v1.0//EN
CALSCALE:GREGORIAN
METHOD:PUBLISH
X-WR-CALNAME:Obst- und Gartenbauverein Neutraubling e.V.
X-ORIGINAL-URL:https://ogv-neutraubling.de
X-WR-CALDESC:Veranstaltungen für Obst- und Gartenbauverein Neutraubling e.V.
BEGIN:VTIMEZONE
TZID:Europe/Helsinki
BEGIN:DAYLIGHT
TZOFFSETFROM:+0200
TZOFFSETTO:+0300
TZNAME:EEST
DTSTART:20140330T010000
END:DAYLIGHT
BEGIN:STANDARD
TZOFFSETFROM:+0300
TZOFFSETTO:+0200
TZNAME:EET
DTSTART:20141026T010000
END:STANDARD
END:VTIMEZONE
BEGIN:VEVENT
DTSTART;TZID=Europe/Helsinki:20140526T080000
DTEND;TZID=Europe/Helsinki:20140528T200000
DTSTAMP:20260419T221422
CREATED:20150730T062340Z
LAST-MODIFIED:20150730T062340Z
UID:385-1401091200-1401307200@ogv-neutraubling.de
SUMMARY:Gartenbewertung 2014
DESCRIPTION:Die diesjährige Gartenbewertung soll in der Zeit vom 26. Mai 2014 – 28. Mai 2014 erfolgen. Sollten in diesen drei Tagen aus witterungsbedingten Gründen noch nicht alle Gärten besichtigt worden sein\, wird diese am 02.06. oder 03.06.14 nachgeholt. Bewertet werden die Gärten der Neumitglieder\, die 2013 unserem Verein beigetreten sind sowie die Gärten\, die zuletzt 2010 bewertet wurden. Wir bitten Sie unserer Jury\, unter der Leitung von Rupert Preißl\, den Zugang zu den Gartenanlagen zu ermöglichen.
URL:https://ogv-neutraubling.de/event/gartenbewertung-2014/
END:VEVENT
END:VCALENDAR