BEGIN:VCALENDAR
VERSION:2.0
PRODID:-//Obst- und Gartenbauverein Neutraubling e.V. - ECPv5.12.3//NONSGML v1.0//EN
CALSCALE:GREGORIAN
METHOD:PUBLISH
X-WR-CALNAME:Obst- und Gartenbauverein Neutraubling e.V.
X-ORIGINAL-URL:https://ogv-neutraubling.de
X-WR-CALDESC:Veranstaltungen für Obst- und Gartenbauverein Neutraubling e.V.
BEGIN:VTIMEZONE
TZID:Europe/Helsinki
BEGIN:DAYLIGHT
TZOFFSETFROM:+0200
TZOFFSETTO:+0300
TZNAME:EEST
DTSTART:20160327T010000
END:DAYLIGHT
BEGIN:STANDARD
TZOFFSETFROM:+0300
TZOFFSETTO:+0200
TZNAME:EET
DTSTART:20161030T010000
END:STANDARD
END:VTIMEZONE
BEGIN:VEVENT
DTSTART;VALUE=DATE:20160730
DTEND;VALUE=DATE:20160731
DTSTAMP:20260419T162144
CREATED:20160718T124612Z
LAST-MODIFIED:20160718T124612Z
UID:597-1469836800-1469923199@ogv-neutraubling.de
SUMMARY:„Feucht und fröhlich ins Frankenland“
DESCRIPTION:Unser Tagesausflug führt uns zu den drei Fränkischen Seen: Großer Brombachsee\, Kleiner Brombachsee und Igelsbachsee. Bei der Rundfahrt erhalten Sie im Bus und an diversen Ausstiegsstellen Informationen über die Entstehung der Seenlandschaft\, den Untergang der elf Mühlen\, den entstandenen Grundwasserproblemen und vieles mehr. Nach dem Mittagessen in Großweingarten fahren wir in die Hopfen- und Bierstadt Spalt. Vor dem Rundgang durch die mittelalterliche Kleinstadt besuchen wir das „Hopfen-Bier-Gut“ in einem ehemaligen Zehentstadel aus dem 15. Jahrhundert. Eine Bierverkostung schließt diesen Programmpunkt ab. Vor Antritt der Heimreise\, werden wir eine Einkehr in einem der gemütlichen „Spalter Wirtshäuser“ organisieren. Hier können Sie unter anderem die „gouden Spalter Brodwärscht“ verspeisen. Ein uriger Spalter Gästeführer wird uns den ganzen Tag begleiten und mit diversen Geschichten und Anekdoten den Tag für alle Ausflügler zu einem unvergesslichen Erlebnis küren! Der Preis beträgt p. P. ca. € 25\,00 und beinhaltet die Fahrtkosten\, den Eintritt in das Hopfen-Bier-Gut mit Bierverkostung und die ganztägige Begleitung durch unseren Gästeführer sowie das Trinkgeld für den Busfahrer.
URL:https://ogv-neutraubling.de/event/feucht-und-froehlich-ins-frankenland/
END:VEVENT
END:VCALENDAR