BEGIN:VCALENDAR
VERSION:2.0
PRODID:-//Obst- und Gartenbauverein Neutraubling e.V. - ECPv5.12.3//NONSGML v1.0//EN
CALSCALE:GREGORIAN
METHOD:PUBLISH
X-WR-CALNAME:Obst- und Gartenbauverein Neutraubling e.V.
X-ORIGINAL-URL:https://ogv-neutraubling.de
X-WR-CALDESC:Veranstaltungen für Obst- und Gartenbauverein Neutraubling e.V.
BEGIN:VTIMEZONE
TZID:Europe/Helsinki
BEGIN:DAYLIGHT
TZOFFSETFROM:+0200
TZOFFSETTO:+0300
TZNAME:EEST
DTSTART:20150329T010000
END:DAYLIGHT
BEGIN:STANDARD
TZOFFSETFROM:+0300
TZOFFSETTO:+0200
TZNAME:EET
DTSTART:20151025T010000
END:STANDARD
END:VTIMEZONE
BEGIN:VEVENT
DTSTART;TZID=Europe/Helsinki:20150808T150000
DTEND;TZID=Europe/Helsinki:20150808T150000
DTSTAMP:20260419T192816
CREATED:20150723T095138Z
LAST-MODIFIED:20150723T095138Z
UID:54-1439046000-1439046000@ogv-neutraubling.de
SUMMARY:Fahrt zum Further Drachenstich
DESCRIPTION:siehe Reiseprogramm!
URL:https://ogv-neutraubling.de/event/fahrt-zum-further-drachenstich/
END:VEVENT
END:VCALENDAR