BEGIN:VCALENDAR
VERSION:2.0
PRODID:-//Obst- und Gartenbauverein Neutraubling e.V. - ECPv5.12.3//NONSGML v1.0//EN
CALSCALE:GREGORIAN
METHOD:PUBLISH
X-WR-CALNAME:Obst- und Gartenbauverein Neutraubling e.V.
X-ORIGINAL-URL:https://ogv-neutraubling.de
X-WR-CALDESC:Veranstaltungen für Obst- und Gartenbauverein Neutraubling e.V.
BEGIN:VTIMEZONE
TZID:Europe/Helsinki
BEGIN:DAYLIGHT
TZOFFSETFROM:+0200
TZOFFSETTO:+0300
TZNAME:EEST
DTSTART:20130331T010000
END:DAYLIGHT
BEGIN:STANDARD
TZOFFSETFROM:+0300
TZOFFSETTO:+0200
TZNAME:EET
DTSTART:20131027T010000
END:STANDARD
END:VTIMEZONE
BEGIN:VEVENT
DTSTART;TZID=Europe/Helsinki:20130321T153000
DTEND;TZID=Europe/Helsinki:20130321T153000
DTSTAMP:20260420T014349
CREATED:20150730T064033Z
LAST-MODIFIED:20150730T064033Z
UID:408-1363879800-1363879800@ogv-neutraubling.de
SUMMARY:Entdecker basteln Osterdekoration
DESCRIPTION:Am Do 21.3.2013 treffen wir uns wieder um 15.30 Uhr im Werkraum der Sonderschule\, um eine Osterdekoration zu basteln.\nBring bitte mit\, wenn du evtl. im Garten findest: \n\neinige Palmkätzchenzweige\, Moospolster zum Abdecken\,\neinen ca. 30 cm langen Ast mit 1 cm Durchmesser.\nAuch schön wären Federn\, leere Eierschalen von aufgeschlagenen Eiern;\neine kleine Gartenschere.
URL:https://ogv-neutraubling.de/event/entdecker-basteln-osterdekoration/
END:VEVENT
END:VCALENDAR