BEGIN:VCALENDAR
VERSION:2.0
PRODID:-//Obst- und Gartenbauverein Neutraubling e.V. - ECPv5.12.3//NONSGML v1.0//EN
CALSCALE:GREGORIAN
METHOD:PUBLISH
X-WR-CALNAME:Obst- und Gartenbauverein Neutraubling e.V.
X-ORIGINAL-URL:https://ogv-neutraubling.de
X-WR-CALDESC:Veranstaltungen für Obst- und Gartenbauverein Neutraubling e.V.
BEGIN:VTIMEZONE
TZID:Europe/Helsinki
BEGIN:DAYLIGHT
TZOFFSETFROM:+0200
TZOFFSETTO:+0300
TZNAME:EEST
DTSTART:20150329T010000
END:DAYLIGHT
BEGIN:STANDARD
TZOFFSETFROM:+0300
TZOFFSETTO:+0200
TZNAME:EET
DTSTART:20151025T010000
END:STANDARD
END:VTIMEZONE
BEGIN:VEVENT
DTSTART;TZID=Europe/Helsinki:20151128T180000
DTEND;TZID=Europe/Helsinki:20151128T210000
DTSTAMP:20260419T180423
CREATED:20151027T131757Z
LAST-MODIFIED:20151027T131757Z
UID:456-1448733600-1448744400@ogv-neutraubling.de
SUMMARY:Einladung zum Adventssingen am Samstag\, 28.11.2015\, in der Stadthalle Neutraubling
DESCRIPTION:Der OGV Neutraubling e. V. richtet auch in diesem Jahr wieder sein traditionelles Adventssingen\, am Samstag vor dem 1. Advent\, in der Stadthalle Neutraubling aus. Zu dieser vorweihnachtlichen Feierstunde laden wir unsere Mitglieder\, deren Familienangehörige und Freunde ein. Auch Kinder sind herzlich willkommen. \nZusammen mit der Kulurreferentin der Stadt Neutraubling\, Frau Angelika Achter\, hat unser Mitglied in der Vereinsleitung\, Rupert Preißl\, wieder ein anspruchvolles Programm zusammengestellt. Neben dem „Posaunenchor“ werden die „Dieterskirchner Sänger“\, das „Brennberger Querflötenduo“\, „D´Nachbarinnern“ sowie die „Dieterskirchner Instrumental Sänger“ die Feier musikalisch begleiten. Die besinnlichen Texte zwischen den Musikblöcken liest in diesem Jahr Herr Karl Baumann von den Volksmusikfreunden. \nNach dem Ende des besinnlichen Teils und einer kurzen technischen Pause erfolgt die Ehrung der Kreis- und Ortssieger der diesjährigen Blumenschmuckwettbewerbe. Die Veranstaltung beginnt um 18.00 Uhr\, die Saalöffnung erfolgt bereits um 17.00 Uhr. Nach dem Ende der Veranstaltung haben Sie die Möglichkeit den Christkindlmarkt\, der bis um 21.30 Uhr geöffnet hat\, zu besuchen. Die Vereinsleitung des OGV freut sich auf Ihren Besuch.
URL:https://ogv-neutraubling.de/event/einladung-zum-adventssingen-am-samstag-28-11-2015-in-der-stadthalle-neutraubling/
LOCATION:Stadthalle Neutraubling\, Regensburger Str. 9\, Neutraubling\, Bayern\, 93073\, Deutschland
END:VEVENT
END:VCALENDAR