BEGIN:VCALENDAR
VERSION:2.0
PRODID:-//Obst- und Gartenbauverein Neutraubling e.V. - ECPv5.12.3//NONSGML v1.0//EN
CALSCALE:GREGORIAN
METHOD:PUBLISH
X-WR-CALNAME:Obst- und Gartenbauverein Neutraubling e.V.
X-ORIGINAL-URL:https://ogv-neutraubling.de
X-WR-CALDESC:Veranstaltungen für Obst- und Gartenbauverein Neutraubling e.V.
BEGIN:VTIMEZONE
TZID:Europe/Helsinki
BEGIN:DAYLIGHT
TZOFFSETFROM:+0200
TZOFFSETTO:+0300
TZNAME:EEST
DTSTART:20180325T010000
END:DAYLIGHT
BEGIN:STANDARD
TZOFFSETFROM:+0300
TZOFFSETTO:+0200
TZNAME:EET
DTSTART:20181028T010000
END:STANDARD
END:VTIMEZONE
BEGIN:VEVENT
DTSTART;TZID=Europe/Helsinki:20180223T153000
DTEND;TZID=Europe/Helsinki:20180223T170000
DTSTAMP:20260419T160216
CREATED:20180215T130556Z
LAST-MODIFIED:20180215T130556Z
UID:860-1519399800-1519405200@ogv-neutraubling.de
SUMMARY:Die Entdecker: Osterschmuck basteln
DESCRIPTION:Liebe Entdecker\,\n\nWir werden uns am Freitag\, 23. Februar 2018 um 15.30 Uhr treffen\, um zusammen mit Marketa in den Räumen der Förderschule diversen Osterschmuck zu basteln.\nBitte meldet euch wegen der Materialplanung bis Di\, 20. Februar verbindlich an.\nBis demnächst\,\neure Heidi Wilfling
URL:https://ogv-neutraubling.de/event/die-entdecker-osterschmuck-basteln/
LOCATION:Förderschule Werkraum\, Johann-Michael-Sailer-Straße 18\, Neutraubling\, Bayern\, 93073\, Deutschland
END:VEVENT
END:VCALENDAR