BEGIN:VCALENDAR
VERSION:2.0
PRODID:-//Obst- und Gartenbauverein Neutraubling e.V. - ECPv5.12.3//NONSGML v1.0//EN
CALSCALE:GREGORIAN
METHOD:PUBLISH
X-WR-CALNAME:Obst- und Gartenbauverein Neutraubling e.V.
X-ORIGINAL-URL:https://ogv-neutraubling.de
X-WR-CALDESC:Veranstaltungen für Obst- und Gartenbauverein Neutraubling e.V.
BEGIN:VTIMEZONE
TZID:Europe/Helsinki
BEGIN:DAYLIGHT
TZOFFSETFROM:+0200
TZOFFSETTO:+0300
TZNAME:EEST
DTSTART:20140330T010000
END:DAYLIGHT
BEGIN:STANDARD
TZOFFSETFROM:+0300
TZOFFSETTO:+0200
TZNAME:EET
DTSTART:20141026T010000
END:STANDARD
END:VTIMEZONE
BEGIN:VEVENT
DTSTART;TZID=Europe/Helsinki:20140503T080000
DTEND;TZID=Europe/Helsinki:20140503T160000
DTSTAMP:20260419T221326
CREATED:20150730T062415Z
LAST-MODIFIED:20150730T062415Z
UID:386-1399104000-1399132800@ogv-neutraubling.de
SUMMARY:39. Blumenbasar am Festplatz am See
DESCRIPTION:Einladung zum 39. Blumenbasar am Samstag\, 03. Mai 2014 \nWir hoffen auch in diesem Jahr\, dass uns der „Wettergott“ zur Eröffnung des Blumenbasars wohl gesonnen ist. Zu unserer Veranstaltung am 03. Mai 2014\, 08.00 Uhr – 16.00 Uhr\, auf dem Festplatz am See\, laden wir unsere Mitglieder\, Mitbürgerinnen und Mitbürger sowie Freunde und Bekannte aus Nah und Fern herzlich ein. An den Ständen der Gärtnereien Völkl und Ernst\, aus Alteglofsheim bzw. Köfering sowie der Staudengärtnerei Thiem aus Einthal können Sie ihren Bedarf an blühenden Pflanzen\, Stauden und Pflanzen für das Gemüsebeet in ihrem Garten einkaufen. Auch der OGV selbst ist mit einem Verkaufsstand für Blumen und Gemüsepflanzen sowie Küchenkräutern vertreten. Die Kindergruppe des Vereins „Die Entdecker“ haben wieder Tonsticker selbst gefertigt. Anton Lugauer und Hans Treintl erfreuen Sie mit Gartenaccessoires aus Edelstahl bzw. Schmiede- und Schweißkunst. Holzschnittkunst mit der Kettensäge wird von Michael Ernst demonstriert. Für die Kleinkinder stellen wir gratis eine Hüpfburg auf.  Der Besuch unseres Biergartens nach dem Einkauf sorgt sicher bei Vielen für Entspannung. Ab 10.00 Uhr bieten wir ein Weißwurstfrühstück incl.Brez´n und einem Getränk an\, gegrillte Bratwürst´l\, Schnittlauchbrote und Emmentaler Käse\, Bier vom Fass\, Weizen\, Radler\, Limo\, Mineralwaser etc.\, runden unser Angebot\, natürlich zu moderaten Preisen\, ab. Ab 11.00 Uhr öffnen wir unseren Kaffeegarten mit heißem\, frischem Kaffee sowie hausgemachten Kuchenspezialitäten.\nAm Infostand können Sie sich in Gartenfragen beraten lassen\, für die Lektüre zu Hause stehen besondere Merkblätter kostenlos zur Verfügung. Wir freuen uns auf Ihren Besuch bei hoffentlich schönem Wetter. Über Kuchenspenden unserer Mitglieder würden wir uns sehr freuen.
URL:https://ogv-neutraubling.de/event/39-blumenbasar-am-festplatz-am-see/
END:VEVENT
END:VCALENDAR