BEGIN:VCALENDAR
VERSION:2.0
PRODID:-//Obst- und Gartenbauverein Neutraubling e.V. - ECPv5.12.3//NONSGML v1.0//EN
CALSCALE:GREGORIAN
METHOD:PUBLISH
X-WR-CALNAME:Obst- und Gartenbauverein Neutraubling e.V.
X-ORIGINAL-URL:https://ogv-neutraubling.de
X-WR-CALDESC:Veranstaltungen für Obst- und Gartenbauverein Neutraubling e.V.
BEGIN:VTIMEZONE
TZID:Europe/Helsinki
BEGIN:DAYLIGHT
TZOFFSETFROM:+0200
TZOFFSETTO:+0300
TZNAME:EEST
DTSTART:20160327T010000
END:DAYLIGHT
BEGIN:STANDARD
TZOFFSETFROM:+0300
TZOFFSETTO:+0200
TZNAME:EET
DTSTART:20161030T010000
END:STANDARD
END:VTIMEZONE
BEGIN:VEVENT
DTSTART;VALUE=DATE:20160828
DTEND;VALUE=DATE:20160904
DTSTAMP:20260419T174302
CREATED:20160718T125307Z
LAST-MODIFIED:20160718T125307Z
UID:600-1472342400-1472947199@ogv-neutraubling.de
SUMMARY:28. August 2016 – 03. September 2016 – Radtour „Mecklenburgische Seenplatte“
DESCRIPTION:Von unserer Unterkunft aus\, dem ****Schloßhotel Klink\, werden täglich Radtouren in Mecklenburg-Vorpommern unternommen. Transport bzw. Abholung durch den vor Ort bleibenden Bus. Zur Wochenmitte werden wir einen ganztägigen Busausflug unternehmen. Der Preis von € 580\,00 (EZ-Zuschlag € 90\,00) beinhaltet\, Radtransport\, Fahrt im modernen Fernreisebus\, Hotel mit Wellnessbereich\, Panorama-Schwimmbad\, Sauna\, Dampfbad etc.\, Unterbringung im DZ\, Dusche/WC\, reichhaltiges Frühstücksbuffet und Abendessen\, 1 Radwanderkarte je Zimmer\, Organisation\, Reiseleitung u. Trinkgelder. Fakultativ bieten wir an: Besuch der Waldbühne in Waren mit Aufführung der mittelalterlichen „Waren Saga“\, Preis p. P. € 15\,00. Schiff geführte Kranichtour zu den Schlafplätzen der sich hier Ende August bis Mitte Oktober vor dem Weiterflug gen Süden zu tausenden sammelnden Kranichen\, Preis p. P. € 15\,00 (Fernglas nicht vergessen). Für Nichtradler steht eine begrenzte Anzahl von Plätzen zur Verfügung\, p. P. € 545\,00 im DZ.
URL:https://ogv-neutraubling.de/event/28-august-2016-03-september-2016-radtour-mecklenburgische-seenplatte/
END:VEVENT
END:VCALENDAR